Package: GSE159526 Version: 1.17.0 Command: /home/biocbuild/bbs-3.23-bioc/R/bin/R CMD INSTALL GSE159526 StartedAt: 2025-11-06 10:55:37 -0500 (Thu, 06 Nov 2025) EndedAt: 2025-11-06 10:55:38 -0500 (Thu, 06 Nov 2025) EllapsedTime: 1.4 seconds RetCode: 0 Status: OK