Package: GSE159526 Version: 1.17.0 Maintainer: Victor Yuan MaintainerEmail: victor.2wy at gmail.com git_url: https://git.bioconductor.org/packages/GSE159526 git_branch: devel git_last_commit: fc248ee git_last_commit_date: 2025-10-29 10:04:19 -0500 (Wed, 29 Oct 2025)