Package: GSE103322 Version: 1.17.0 Command: /home/biocbuild/bbs-3.23-bioc/R/bin/R CMD build --keep-empty-dirs --no-resave-data GSE103322 StartedAt: 2025-11-06 11:20:24 -0500 (Thu, 06 Nov 2025) EndedAt: 2025-11-06 11:20:58 -0500 (Thu, 06 Nov 2025) EllapsedTime: 33.8 seconds RetCode: 0 Status: OK PackageFile: GSE103322_1.17.0.tar.gz PackageFileSize: 218.8 KiB