Package: GSE103322 Version: 1.17.0 Maintainer: Mariano Alvarez MaintainerEmail: reef103 at gmail.com git_url: https://git.bioconductor.org/packages/GSE103322 git_branch: devel git_last_commit: ecedb6c git_last_commit_date: 2025-10-29 10:04:11 -0500 (Wed, 29 Oct 2025)