Package: GSBenchMark Version: 1.31.0 Command: /home/biocbuild/bbs-3.23-bioc/R/bin/R CMD check --install=check:GSBenchMark.install-out.txt --library=/home/biocbuild/bbs-3.23-bioc/R/site-library --timings GSBenchMark_1.31.0.tar.gz StartedAt: 2025-11-20 12:34:22 -0500 (Thu, 20 Nov 2025) EndedAt: 2025-11-20 12:35:08 -0500 (Thu, 20 Nov 2025) EllapsedTime: 45.6 seconds RetCode: 0 Status: OK CheckDir: GSBenchMark.Rcheck Warnings: 0