Package: GSBenchMark Version: 1.31.0 Maintainer: Bahman Afsari MaintainerEmail: bahman at jhu.edu git_url: https://git.bioconductor.org/packages/GSBenchMark git_branch: devel git_last_commit: e235e22 git_last_commit_date: 2025-10-29 09:55:22 -0500 (Wed, 29 Oct 2025)