Package: GIGSEAdata Version: 1.29.0 Maintainer: Shijia Zhu MaintainerEmail: shijia.zhu at mssm.edu git_url: https://git.bioconductor.org/packages/GIGSEAdata git_branch: devel git_last_commit: 0f84c05 git_last_commit_date: 2025-10-29 10:00:28 -0500 (Wed, 29 Oct 2025)