Package: FlowSorted.Blood.450k Version: 1.49.0 Command: /home/biocbuild/bbs-3.23-bioc/R/bin/R CMD check --install=check:FlowSorted.Blood.450k.install-out.txt --library=/home/biocbuild/bbs-3.23-bioc/R/site-library --timings FlowSorted.Blood.450k_1.49.0.tar.gz StartedAt: 2025-11-06 12:19:41 -0500 (Thu, 06 Nov 2025) EndedAt: 2025-11-06 12:22:50 -0500 (Thu, 06 Nov 2025) EllapsedTime: 189.3 seconds RetCode: 0 Status: WARNINGS CheckDir: FlowSorted.Blood.450k.Rcheck Warnings: 1