Package: Fletcher2013b Version: 1.47.0 Command: /home/biocbuild/bbs-3.23-bioc/R/bin/R CMD build --keep-empty-dirs --no-resave-data Fletcher2013b StartedAt: 2025-11-06 11:18:01 -0500 (Thu, 06 Nov 2025) EndedAt: 2025-11-06 11:18:48 -0500 (Thu, 06 Nov 2025) EllapsedTime: 46.9 seconds RetCode: 0 Status: OK PackageFile: Fletcher2013b_1.47.0.tar.gz PackageFileSize: 263.6 MiB