Package: Fletcher2013a Version: 1.47.0 Maintainer: Mauro Castro MaintainerEmail: mauro.a.castro at gmail.com git_url: https://git.bioconductor.org/packages/Fletcher2013a git_branch: devel git_last_commit: 08e2b20 git_last_commit_date: 2025-10-29 09:53:51 -0500 (Wed, 29 Oct 2025)