Package: FieldEffectCrc Version: 1.21.0 Command: /home/biocbuild/bbs-3.23-bioc/R/bin/R CMD INSTALL FieldEffectCrc StartedAt: 2025-11-06 11:00:09 -0500 (Thu, 06 Nov 2025) EndedAt: 2025-11-06 11:00:37 -0500 (Thu, 06 Nov 2025) EllapsedTime: 28.1 seconds RetCode: 0 Status: OK