Package: FieldEffectCrc Version: 1.21.0 Command: /home/biocbuild/bbs-3.23-bioc/R/bin/R CMD check --install=check:FieldEffectCrc.install-out.txt --library=/home/biocbuild/bbs-3.23-bioc/R/site-library --timings FieldEffectCrc_1.21.0.tar.gz StartedAt: 2025-11-20 12:29:52 -0500 (Thu, 20 Nov 2025) EndedAt: 2025-11-20 12:37:07 -0500 (Thu, 20 Nov 2025) EllapsedTime: 434.6 seconds RetCode: 0 Status: OK CheckDir: FieldEffectCrc.Rcheck Warnings: 0