Package: FANTOM3and4CAGE Version: 1.47.0 Maintainer: Vanja Haberle MaintainerEmail: vanja.haberle at bio.uib.no git_url: https://git.bioconductor.org/packages/FANTOM3and4CAGE git_branch: devel git_last_commit: 549d299 git_last_commit_date: 2025-10-29 09:52:53 -0500 (Wed, 29 Oct 2025)