Package: DuoClustering2018 Version: 1.29.0 Command: /home/biocbuild/bbs-3.23-bioc/R/bin/R CMD check --install=check:DuoClustering2018.install-out.txt --library=/home/biocbuild/bbs-3.23-bioc/R/site-library --timings DuoClustering2018_1.29.0.tar.gz StartedAt: 2025-11-06 12:15:23 -0500 (Thu, 06 Nov 2025) EndedAt: 2025-11-06 12:19:48 -0500 (Thu, 06 Nov 2025) EllapsedTime: 264.7 seconds RetCode: 0 Status: OK CheckDir: DuoClustering2018.Rcheck Warnings: 0