Package: DonaPLLP2013 Version: 1.49.0 Command: /home/biocbuild/bbs-3.23-bioc/R/bin/R CMD build --keep-empty-dirs --no-resave-data DonaPLLP2013 StartedAt: 2025-11-06 11:15:19 -0500 (Thu, 06 Nov 2025) EndedAt: 2025-11-06 11:20:12 -0500 (Thu, 06 Nov 2025) EllapsedTime: 293.6 seconds RetCode: 0 Status: OK PackageFile: DonaPLLP2013_1.49.0.tar.gz PackageFileSize: 93.77 MiB