Package: DoReMiTra Version: 1.1.0 Command: /home/biocbuild/bbs-3.23-bioc/R/bin/R CMD INSTALL DoReMiTra StartedAt: 2025-11-06 11:02:10 -0500 (Thu, 06 Nov 2025) EndedAt: 2025-11-06 11:02:36 -0500 (Thu, 06 Nov 2025) EllapsedTime: 26.5 seconds RetCode: 0 Status: OK