Package: DeSousa2013 Version: 1.47.0 Command: /home/biocbuild/bbs-3.23-bioc/R/bin/R CMD build --keep-empty-dirs --no-resave-data DeSousa2013 StartedAt: 2025-11-06 11:14:49 -0500 (Thu, 06 Nov 2025) EndedAt: 2025-11-06 11:15:38 -0500 (Thu, 06 Nov 2025) EllapsedTime: 48.3 seconds RetCode: 0 Status: OK PackageFile: DeSousa2013_1.47.0.tar.gz PackageFileSize: 44.76 MiB