Package: DeSousa2013 Version: 1.47.0 Maintainer: Xin Wang MaintainerEmail: Xin.Wang at cruk.cam.ac.uk git_url: https://git.bioconductor.org/packages/DeSousa2013 git_branch: devel git_last_commit: da2a9e4 git_last_commit_date: 2025-10-29 09:53:26 -0500 (Wed, 29 Oct 2025)