Package: DNAZooData Version: 1.11.0 Command: /home/biocbuild/bbs-3.23-bioc/R/bin/R CMD build --keep-empty-dirs --no-resave-data DNAZooData StartedAt: 2025-11-06 11:15:13 -0500 (Thu, 06 Nov 2025) EndedAt: 2025-11-06 11:15:52 -0500 (Thu, 06 Nov 2025) EllapsedTime: 39.1 seconds RetCode: 0 Status: OK PackageFile: DNAZooData_1.11.0.tar.gz PackageFileSize: 235.7 KiB