Package: DLBCL Version: 1.51.0 Maintainer: Marcus Dittrich MaintainerEmail: marcus.dittrich at biozentrum.uni-wuerzburg.de git_url: https://git.bioconductor.org/packages/DLBCL git_branch: devel git_last_commit: f638520 git_last_commit_date: 2025-10-29 10:06:08 -0500 (Wed, 29 Oct 2025)