Package: DExMAdata Version: 1.19.0 Maintainer: Juan Antonio Villatoro-GarcĂ­a MaintainerEmail: juanantoniovillatorogarcia at gmail.com git_url: https://git.bioconductor.org/packages/DExMAdata git_branch: devel git_last_commit: aa10ee3 git_last_commit_date: 2025-10-29 10:03:44 -0500 (Wed, 29 Oct 2025)