Package: DAPARdata Version: 1.41.0 Command: /home/biocbuild/bbs-3.23-bioc/R/bin/R CMD INSTALL DAPARdata StartedAt: 2025-11-06 11:00:20 -0500 (Thu, 06 Nov 2025) EndedAt: 2025-11-06 11:00:56 -0500 (Thu, 06 Nov 2025) EllapsedTime: 35.7 seconds RetCode: 0 Status: OK