Package: DAPARdata Version: 1.41.0 Maintainer: Samuel Wieczorek MaintainerEmail: samuel.wieczorek at cea.fr git_url: https://git.bioconductor.org/packages/DAPARdata git_branch: devel git_last_commit: 1733867 git_last_commit_date: 2025-10-29 09:58:08 -0500 (Wed, 29 Oct 2025)