Package: CopyNeutralIMA Version: 1.29.0 Command: /home/biocbuild/bbs-3.23-bioc/R/bin/R CMD check --install=check:CopyNeutralIMA.install-out.txt --library=/home/biocbuild/bbs-3.23-bioc/R/site-library --timings CopyNeutralIMA_1.29.0.tar.gz StartedAt: 2025-11-06 12:07:38 -0500 (Thu, 06 Nov 2025) EndedAt: 2025-11-06 12:13:05 -0500 (Thu, 06 Nov 2025) EllapsedTime: 326.9 seconds RetCode: 0 Status: OK CheckDir: CopyNeutralIMA.Rcheck Warnings: 0