Package: ConnectivityMap Version: 1.47.0 Command: /home/biocbuild/bbs-3.23-bioc/R/bin/R CMD check --install=check:ConnectivityMap.install-out.txt --library=/home/biocbuild/bbs-3.23-bioc/R/site-library --timings ConnectivityMap_1.47.0.tar.gz StartedAt: 2025-11-06 12:07:29 -0500 (Thu, 06 Nov 2025) EndedAt: 2025-11-06 12:10:18 -0500 (Thu, 06 Nov 2025) EllapsedTime: 168.7 seconds RetCode: 0 Status: OK CheckDir: ConnectivityMap.Rcheck Warnings: 0