Package: CoSIAdata Version: 1.11.0 Maintainer: Amanda D. Clark MaintainerEmail: clarkaduab at gmail.com git_url: https://git.bioconductor.org/packages/CoSIAdata git_branch: devel git_last_commit: 1933a6f git_last_commit_date: 2025-10-29 10:06:42 -0500 (Wed, 29 Oct 2025)