Package: ChIPDBData Version: 1.1.0 Command: /home/biocbuild/bbs-3.23-bioc/R/bin/R CMD check --install=check:ChIPDBData.install-out.txt --library=/home/biocbuild/bbs-3.23-bioc/R/site-library --timings ChIPDBData_1.1.0.tar.gz StartedAt: 2025-11-13 12:07:21 -0500 (Thu, 13 Nov 2025) EndedAt: 2025-11-13 12:08:49 -0500 (Thu, 13 Nov 2025) EllapsedTime: 87.9 seconds RetCode: 0 Status: OK CheckDir: ChIPDBData.Rcheck Warnings: 0