Package: ChAMPdata Version: 2.43.0 Maintainer: Yuan Tian MaintainerEmail: champ450k at gmail.com git_url: https://git.bioconductor.org/packages/ChAMPdata git_branch: devel git_last_commit: fa81053 git_last_commit_date: 2025-10-29 09:54:17 -0500 (Wed, 29 Oct 2025)