Package: COHCAPanno Version: 1.47.0 Maintainer: Charles Warden MaintainerEmail: cwarden45 at gmail.com git_url: https://git.bioconductor.org/packages/COHCAPanno git_branch: devel git_last_commit: dabb34b git_last_commit_date: 2025-10-29 09:54:37 -0500 (Wed, 29 Oct 2025)