Package: CLLmethylation Version: 1.31.0 Command: /home/biocbuild/bbs-3.23-bioc/R/bin/R CMD INSTALL CLLmethylation StartedAt: 2025-11-06 10:59:50 -0500 (Thu, 06 Nov 2025) EndedAt: 2025-11-06 11:00:07 -0500 (Thu, 06 Nov 2025) EllapsedTime: 17.5 seconds RetCode: 0 Status: OK