Package: CLL Version: 1.51.0 Maintainer: Robert Gentleman MaintainerEmail: rgentlem at fhcrc.org git_url: https://git.bioconductor.org/packages/CLL git_branch: devel git_last_commit: 0211325 git_last_commit_date: 2025-10-29 09:23:22 -0500 (Wed, 29 Oct 2025)