Package: BloodCancerMultiOmics2017 Version: 1.31.0 Command: /home/biocbuild/bbs-3.23-bioc/R/bin/R CMD check --install=check:BloodCancerMultiOmics2017.install-out.txt --library=/home/biocbuild/bbs-3.23-bioc/R/site-library --timings BloodCancerMultiOmics2017_1.31.0.tar.gz StartedAt: 2025-11-13 12:03:12 -0500 (Thu, 13 Nov 2025) EndedAt: 2025-11-13 12:03:21 -0500 (Thu, 13 Nov 2025) EllapsedTime: 9.0 seconds RetCode: 1 Status: ERROR CheckDir: BloodCancerMultiOmics2017.Rcheck Warnings: NA