Package: BioImageDbs Version: 1.19.0 Maintainer: Satoshi Kume MaintainerEmail: satoshi.kume.1984 at gmail.com git_url: https://git.bioconductor.org/packages/BioImageDbs git_branch: devel git_last_commit: b483eaa git_last_commit_date: 2025-10-29 10:03:39 -0500 (Wed, 29 Oct 2025)