Package: AssessORFData Version: 1.29.0 Command: /home/biocbuild/bbs-3.23-bioc/R/bin/R CMD check --install=check:AssessORFData.install-out.txt --library=/home/biocbuild/bbs-3.23-bioc/R/site-library --timings AssessORFData_1.29.0.tar.gz StartedAt: 2025-11-06 12:01:31 -0500 (Thu, 06 Nov 2025) EndedAt: 2025-11-06 12:05:49 -0500 (Thu, 06 Nov 2025) EllapsedTime: 257.5 seconds RetCode: 0 Status: OK CheckDir: AssessORFData.Rcheck Warnings: 0