Package: AmpAffyExample Version: 1.51.0 Command: /home/biocbuild/bbs-3.23-bioc/R/bin/R CMD check --install=check:AmpAffyExample.install-out.txt --library=/home/biocbuild/bbs-3.23-bioc/R/site-library --timings AmpAffyExample_1.51.0.tar.gz StartedAt: 2025-11-06 12:01:15 -0500 (Thu, 06 Nov 2025) EndedAt: 2025-11-06 12:02:02 -0500 (Thu, 06 Nov 2025) EllapsedTime: 47.1 seconds RetCode: 0 Status: WARNINGS CheckDir: AmpAffyExample.Rcheck Warnings: 1