Package: Affymoe4302Expr Version: 1.49.0 Maintainer: Zhicheng Ji MaintainerEmail: zji4 at jhu.edu git_url: https://git.bioconductor.org/packages/Affymoe4302Expr git_branch: devel git_last_commit: 3db92ed git_last_commit_date: 2025-10-29 09:54:42 -0500 (Wed, 29 Oct 2025)