Package: AffymetrixDataTestFiles Version: 0.49.0 Command: /home/biocbuild/bbs-3.23-bioc/R/bin/R CMD check --install=check:AffymetrixDataTestFiles.install-out.txt --library=/home/biocbuild/bbs-3.23-bioc/R/site-library --timings AffymetrixDataTestFiles_0.49.0.tar.gz StartedAt: 2025-11-06 12:01:15 -0500 (Thu, 06 Nov 2025) EndedAt: 2025-11-06 12:01:35 -0500 (Thu, 06 Nov 2025) EllapsedTime: 20.6 seconds RetCode: 0 Status: OK CheckDir: AffymetrixDataTestFiles.Rcheck Warnings: 0