Package: Affyhgu133aExpr Version: 1.49.0 Command: /home/biocbuild/bbs-3.23-bioc/R/bin/R CMD build --keep-empty-dirs --no-resave-data Affyhgu133aExpr StartedAt: 2025-11-06 11:07:31 -0500 (Thu, 06 Nov 2025) EndedAt: 2025-11-06 11:07:52 -0500 (Thu, 06 Nov 2025) EllapsedTime: 21.1 seconds RetCode: 0 Status: OK PackageFile: Affyhgu133aExpr_1.49.0.tar.gz PackageFileSize: 316.1 MiB