Package: Affyhgu133aExpr Version: 1.49.0 Maintainer: Zhicheng Ji MaintainerEmail: zji4 at jhu.edu git_url: https://git.bioconductor.org/packages/Affyhgu133aExpr git_branch: devel git_last_commit: cad2b4c git_last_commit_date: 2025-10-29 09:54:40 -0500 (Wed, 29 Oct 2025)