Package: Affyhgu133Plus2Expr Version: 1.45.0 Maintainer: Zhicheng Ji MaintainerEmail: zji4 at jhu.edu git_url: https://git.bioconductor.org/packages/Affyhgu133Plus2Expr git_branch: devel git_last_commit: 2a3d345 git_last_commit_date: 2025-10-29 09:54:50 -0500 (Wed, 29 Oct 2025)