Package: Affyhgu133A2Expr Version: 1.47.0 Command: /home/biocbuild/bbs-3.23-bioc/R/bin/R CMD INSTALL Affyhgu133A2Expr StartedAt: 2025-11-06 10:55:10 -0500 (Thu, 06 Nov 2025) EndedAt: 2025-11-06 10:55:12 -0500 (Thu, 06 Nov 2025) EllapsedTime: 1.2 seconds RetCode: 0 Status: OK