Package: AWAggregatorData Version: 1.1.0 Command: /home/biocbuild/bbs-3.23-bioc/R/bin/R CMD check --install=check:AWAggregatorData.install-out.txt --library=/home/biocbuild/bbs-3.23-bioc/R/site-library --timings AWAggregatorData_1.1.0.tar.gz StartedAt: 2025-11-06 12:01:36 -0500 (Thu, 06 Nov 2025) EndedAt: 2025-11-06 12:03:45 -0500 (Thu, 06 Nov 2025) EllapsedTime: 128.8 seconds RetCode: 0 Status: OK CheckDir: AWAggregatorData.Rcheck Warnings: 0