Package: ALLMLL Version: 1.51.0 Command: /home/biocbuild/bbs-3.23-bioc/R/bin/R CMD INSTALL ALLMLL StartedAt: 2025-11-06 10:56:27 -0500 (Thu, 06 Nov 2025) EndedAt: 2025-11-06 10:56:36 -0500 (Thu, 06 Nov 2025) EllapsedTime: 8.6 seconds RetCode: 0 Status: OK