Package: ALLMLL Version: 1.51.0 Maintainer: B. M. Bolstad MaintainerEmail: bmb at bmbolstad.com git_url: https://git.bioconductor.org/packages/ALLMLL git_branch: devel git_last_commit: 4ddcc9d git_last_commit_date: 2025-10-29 09:23:13 -0500 (Wed, 29 Oct 2025)