Package: ALL Version: 1.53.0 Command: /home/biocbuild/bbs-3.23-bioc/R/bin/R CMD INSTALL ALL StartedAt: 2025-11-06 10:56:21 -0500 (Thu, 06 Nov 2025) EndedAt: 2025-11-06 10:56:25 -0500 (Thu, 06 Nov 2025) EllapsedTime: 4.3 seconds RetCode: 0 Status: OK