Package: ALL Version: 1.53.0 Maintainer: Robert Gentleman MaintainerEmail: rgentlem at gmail.com git_url: https://git.bioconductor.org/packages/ALL git_branch: devel git_last_commit: 87eda8b git_last_commit_date: 2025-10-29 09:23:11 -0500 (Wed, 29 Oct 2025)