Package: widgetTools Version: 1.89.0 Maintainer: Jianhua Zhang MaintainerEmail: jzhang at jimmy.harvard.edu git_url: https://git.bioconductor.org/packages/widgetTools git_branch: devel git_last_commit: 0513252 git_last_commit_date: 2025-10-29 09:42:19 -0500 (Wed, 29 Oct 2025)