Package: sparseMatrixStats Version: 1.23.0 Command: /home/rapidbuild/bbs-3.23-bioc-rapid/R/bin/R CMD INSTALL sparseMatrixStats StartedAt: 2025-11-10 06:12:55 -0500 (Mon, 10 Nov 2025) EndedAt: 2025-11-10 06:13:17 -0500 (Mon, 10 Nov 2025) EllapsedTime: 21.9 seconds RetCode: 0 Status: OK