Package: sparseMatrixStats Version: 1.23.0 Command: /home/rapidbuild/bbs-3.23-bioc-rapid/R/bin/R CMD build --keep-empty-dirs --no-resave-data sparseMatrixStats StartedAt: 2025-11-09 07:34:57 -0500 (Sun, 09 Nov 2025) EndedAt: 2025-11-09 07:35:23 -0500 (Sun, 09 Nov 2025) EllapsedTime: 26.6 seconds RetCode: 0 Status: OK PackageFile: sparseMatrixStats_1.23.0.tar.gz PackageFileSize: 687.7 KiB