Package: interactiveDisplayBase Version: 1.49.0 Command: /home/rapidbuild/bbs-3.23-bioc-rapid/R/bin/R CMD INSTALL interactiveDisplayBase StartedAt: 2025-11-10 06:18:12 -0500 (Mon, 10 Nov 2025) EndedAt: 2025-11-10 06:18:16 -0500 (Mon, 10 Nov 2025) EllapsedTime: 3.4 seconds RetCode: 0 Status: OK